BEGIN:VCALENDAR
VERSION:2.0
PRODID:-//BIWENA - ECPv6.15.19//NONSGML v1.0//EN
CALSCALE:GREGORIAN
METHOD:PUBLISH
X-WR-CALNAME:BIWENA
X-ORIGINAL-URL:https://biwena.de
X-WR-CALDESC:Veranstaltungen für BIWENA
REFRESH-INTERVAL;VALUE=DURATION:PT1H
X-Robots-Tag:noindex
X-PUBLISHED-TTL:PT1H
BEGIN:VTIMEZONE
TZID:Europe/Berlin
BEGIN:DAYLIGHT
TZOFFSETFROM:+0100
TZOFFSETTO:+0200
TZNAME:CEST
DTSTART:20240331T010000
END:DAYLIGHT
BEGIN:STANDARD
TZOFFSETFROM:+0200
TZOFFSETTO:+0100
TZNAME:CET
DTSTART:20241027T010000
END:STANDARD
BEGIN:DAYLIGHT
TZOFFSETFROM:+0100
TZOFFSETTO:+0200
TZNAME:CEST
DTSTART:20250330T010000
END:DAYLIGHT
BEGIN:STANDARD
TZOFFSETFROM:+0200
TZOFFSETTO:+0100
TZNAME:CET
DTSTART:20251026T010000
END:STANDARD
BEGIN:DAYLIGHT
TZOFFSETFROM:+0100
TZOFFSETTO:+0200
TZNAME:CEST
DTSTART:20260329T010000
END:DAYLIGHT
BEGIN:STANDARD
TZOFFSETFROM:+0200
TZOFFSETTO:+0100
TZNAME:CET
DTSTART:20261025T010000
END:STANDARD
END:VTIMEZONE
BEGIN:VEVENT
DTSTART;TZID=Europe/Berlin:20250916T110000
DTEND;TZID=Europe/Berlin:20250916T120000
DTSTAMP:20260420T094926
CREATED:20250825T094822Z
LAST-MODIFIED:20250825T125505Z
UID:10000009-1758020400-1758024000@biwena.de
SUMMARY:[Online] Tilman Jarmer: Einfach Bauen
DESCRIPTION:Wir laden alle kommunalen Akteur*innen aus Verwaltung\, Politik\, Handwerk und Planung herzlich zu unserer neuen kostenfreien jeweils 1-stündigen Onlinereihe „Bauklima kommunal“ ein. \nKommunen und Kreise haben die Möglichkeit das Bauwesen auf lokaler Ebene hin zu Klimaschutz und Ressourcenschutz zu bewegen. Mit dem Konzept ‚Einfach Bauen‘ steht hier ein Forschungs- und Entwicklungsansatz bereit\, der das Bauen und Betreiben von Gebäuden auf das Wesentliche hinterfragt und reduziert. Dr. Tilmann Jarmer stellt uns die Erfahrungen mit den Forschungshäusern in Bad Aibling vor\, was durchaus das Potenzial hat\, sich von der einen oder anderen Gewissheit  zu verabschieden. \nDiskutieren Sie mit. Anmeldung bitte hier. \n  \n______ \nDas BauKlima-Kommunal Projekt wird gemeinsam von der Deutschen Umwelthilfe e.V.\, dem Lehrstuhl für energieeffizientes und nachhaltiges Planen und Bauen an der Technischen Universität München und der Bildungswerkstatt für nachhaltige Entwicklung e.V. umgesetzt und im Rahmen der Nationalen Klimaschutzinitiative gefördert. Das Projekt läuft drei Jahre (vom 1. April 2023 bis 31. März 2026). Förderkennzeichen: 67KF0181ABC.
URL:https://biwena.de/index.php/event/online-einfach-bauen/
CATEGORIES:Onlineveranstaltung
ATTACH;FMTTYPE=image/png:https://biwena.de/wp-content/uploads/2025/08/bauklima_logo.png
ORGANIZER;CN="BIWENA":MAILTO:info@biwena.de
END:VEVENT
BEGIN:VEVENT
DTSTART;TZID=Europe/Berlin:20250924T110000
DTEND;TZID=Europe/Berlin:20250924T120000
DTSTAMP:20260420T094926
CREATED:20250825T101420Z
LAST-MODIFIED:20250825T125412Z
UID:10000011-1758711600-1758715200@biwena.de
SUMMARY:[Online] Klaus Dosch: Bauwende für ihre Klimaziele. Ein einfacher\, pragmatischer Ansatz zum Multiplizieren
DESCRIPTION:Wir laden alle kommunalen Akteur*innen aus Verwaltung\, Politik\, Handwerk und Planung herzlich zu unserer neuen kostenfreien jeweils 1-stündigen Onlinereihe „Bauklima kommunal“ ein. \nKommunen und Kreise haben die Möglichkeit das Bauwesen auf lokaler Ebene hin zu Klimaschutz und Ressourcenschutz zu bewegen. Klaus Dosch (Resscore.de) widmet sich seit Jahren unermüdlich der Verringerung des Fußabdrucks des Bauens\, in dem er die gute Datenlage pragmatisch nutzt und Tools entwickelt\, mit dem man einfach mal vor Ort z.B. im Gewerbegebiet Schadensbegrenzung betreiben kann. Nachvollziehbare Klima- und Ressourceneffizienz statt Greenwashing. \nDiskutieren Sie mit. Anmeldung bitte hier. \n  \n______ \nDas BauKlima-Kommunal Projekt wird gemeinsam von der Deutschen Umwelthilfe e.V.\, dem Lehrstuhl für energieeffizientes und nachhaltiges Planen und Bauen an der Technischen Universität München und der Bildungswerkstatt für nachhaltige Entwicklung e.V. umgesetzt und im Rahmen der Nationalen Klimaschutzinitiative gefördert. Das Projekt läuft drei Jahre (vom 1. April 2023 bis 31. März 2026). Förderkennzeichen: 67KF0181ABC.
URL:https://biwena.de/index.php/event/online-bauwende-fuer-ihre-klimaziele-ein-einfacher-pragmatischer-ansatz-zum-multiplizieren/
CATEGORIES:Onlineveranstaltung
ATTACH;FMTTYPE=image/png:https://biwena.de/wp-content/uploads/2025/08/bauklima_logo.png
END:VEVENT
END:VCALENDAR