BEGIN:VCALENDAR
VERSION:2.0
PRODID:-//BIWENA - ECPv6.15.19//NONSGML v1.0//EN
CALSCALE:GREGORIAN
METHOD:PUBLISH
X-ORIGINAL-URL:https://biwena.de
X-WR-CALDESC:Veranstaltungen für BIWENA
REFRESH-INTERVAL;VALUE=DURATION:PT1H
X-Robots-Tag:noindex
X-PUBLISHED-TTL:PT1H
BEGIN:VTIMEZONE
TZID:Europe/Berlin
BEGIN:DAYLIGHT
TZOFFSETFROM:+0100
TZOFFSETTO:+0200
TZNAME:CEST
DTSTART:20250330T010000
END:DAYLIGHT
BEGIN:STANDARD
TZOFFSETFROM:+0200
TZOFFSETTO:+0100
TZNAME:CET
DTSTART:20251026T010000
END:STANDARD
BEGIN:DAYLIGHT
TZOFFSETFROM:+0100
TZOFFSETTO:+0200
TZNAME:CEST
DTSTART:20260329T010000
END:DAYLIGHT
BEGIN:STANDARD
TZOFFSETFROM:+0200
TZOFFSETTO:+0100
TZNAME:CET
DTSTART:20261025T010000
END:STANDARD
BEGIN:DAYLIGHT
TZOFFSETFROM:+0100
TZOFFSETTO:+0200
TZNAME:CEST
DTSTART:20270328T010000
END:DAYLIGHT
BEGIN:STANDARD
TZOFFSETFROM:+0200
TZOFFSETTO:+0100
TZNAME:CET
DTSTART:20271031T010000
END:STANDARD
END:VTIMEZONE
BEGIN:VEVENT
DTSTART;TZID=Europe/Berlin:20260220T100000
DTEND;TZID=Europe/Berlin:20260220T120000
DTSTAMP:20260419T180658
CREATED:20260130T141655Z
LAST-MODIFIED:20260212T130705Z
UID:10000036-1771581600-1771588800@biwena.de
SUMMARY:[Online] Bauen mit Holz: Besonderheiten des Vergaberechts – eine Einführung
DESCRIPTION:Dieser Online-Vortrag richtet sich insbesondere an Mitarbeitende in kommunalen Bau- und Vergabestellen in der Zukunftsregion Mitte Niedersachsen\, die Ausschreibungen für Holzbauprojekte vorbereiten oder begleiten. \nNachhaltigkeitskriterien und hierbei besonders das Thema Holzbau gewinnen im kommunalen Hochbau aktuell stark an Bedeutung. Die beim Massivbau üblichen Vorgehensweisen lassen sich nicht ohne Weiteres auf den Holzbau übertragen:  Es bedarf veränderte Anforderungen an Ausschreibungen\, Vergabeverfahren und Abrechnungsgrundlagen. \nDr. Christoph Möllers zeigt praxisnah auf\, was typische Herausforderungen beim öffentlichen Bauen mit Holz sind. Themen sind unter anderem: \n\nEinführung in die Grundlagen des Vergaberechts im kommunalen Holzbau\nBeschaffungserwägungen speziell für den Holzbau\nZusammenlegung von Losen\n\nDie Veranstaltung ist offen für alle\, die sich Überblick über die aktuellen Anforderungen und Möglichkeiten im Holzbau verschaffen möchten. Im Anschluss gibt es Zeit für Fragen und Austausch. \nTermin: 20. Februar 2026 | 10:00–12:00 Uhr (Einwahl ab 9:45 Uhr)\nFormat: Onlineveranstaltung (Zoom)\nAnmeldung: Per E-Mail bis zum 18.2.26 an veranstaltung@biwena.de. E-Mail bitte unbedingt mit dem Betreff versehen: Anmeldung: Öffentliche Vergabe Holzbau\, damit wir Ihnen den Zugangslink zur Veranstaltung zuschicken können.\n \n\nAls Fortbildungsveranstaltung mit 2 Punkten anerkannt für Mitglieder der Architekten- und Ingenieurskammer. Im Anschluss an die Veranstaltung wird auf Wunsch eine Teilnahmebescheinigung ausgestellt.\n \nKosten: Keine* \nUnser Referent:\nDr. Christoph Möllers\, Fachanwalt für Bau- und Architektenrecht\, Prokurist der Holzbau Kompetenz Sachsen GmbH\, Dresden – einer Einrichtung des Freistaates Sachsen zur Förderung des Bauens mit Holz. Langjährige Erfahrung als Unternehmer im Bauwesen. \n*Disclaimer:\nDas Projekt „Bildungsoffensive Nachhaltiges Bauen Mitte Niedersachsen“  wird durch die Europäische Union und durch die Landkreise Diepholz\, Nienburg/Weser und Verden im Rahmen der Zukunftsregion Mitte Niedersachsen gefördert.
URL:https://biwena.de/index.php/event/bauen-mit-holz-besonderheiten-des-vergaberechts-eine-einfuehrung/
CATEGORIES:Onlineveranstaltung
ATTACH;FMTTYPE=image/jpeg:https://biwena.de/wp-content/uploads/2026/01/IGS_Rinteln_HolzbauPlus_Preis_Urheber©-Joachim-Grothus-e1769782301522.jpg
ORGANIZER;CN="BIWENA":MAILTO:info@biwena.de
END:VEVENT
BEGIN:VEVENT
DTSTART;TZID=Europe/Berlin:20260224T110000
DTEND;TZID=Europe/Berlin:20260224T123000
DTSTAMP:20260419T180658
CREATED:20260119T145314Z
LAST-MODIFIED:20260224T085933Z
UID:10000035-1771930800-1771936200@biwena.de
SUMMARY:[Online] Lehm-Holz-Hybridbau - Erfahrung aus dem Hortus Großprojekt
DESCRIPTION:Nabil El Schami widmet sich seit Jahren international nicht nur in Forschung und Lehre sondern auch in der Praxis dem Lehmbau und dem Bauen mit nachwachsenden Rohstoffen. So scheut er sich auch nicht davor auch mal selbst eine Wandheizung in Lehm zu setzen. Als Produktionsleiter für den Lehmbau eines der modernsten Bauwende-Projekte\, dem Hortus-Projekt von Herzog & DeMeuron sammelte er Erfahrungen im anspruchsvollen Holz- und Lehmbau\, die er mit uns teilen möchte. \nDiskutieren Sie mit. Die Formularanmeldung war leider nicht funktional. Bitte kurze Mail an burchert@biwena.de für den Teilnahmelink. \nWir laden alle kommunalen Akteur*innen aus Verwaltung\, Politik\, Handwerk und Planung herzlich zu unserer neuen kostenfreien jeweils 1-stündigen Onlinereihe „Bauklima kommunal“ ein. \nKommunen und Kreise haben die Möglichkeit das Bauwesen auf lokaler Ebene hin zu Klimaschutz und Ressourcenschutz zu bewegen. \n______ \nDas Projekt „BauKlima kommunal“ wird in Zusammenarbeit mit der Deutschen Umwelthilfe (Projektwebsite)\, dem  Lehrstuhl für energieeffizientes und nachhaltiges Planen und Bauen an der Technischen Universität München und dem BIWENA e.V. durchgeführt. Es wird gefördert durch die:\nNationale Klimaschutzinitiative (NKI)\ndes Bundesministerium für Umwelt\, Klimaschutz\, Naturschutz und nukleare Sicherheit (BMUKN)\nFörderkennzeichen: 67KF0181B \n  \n 
URL:https://biwena.de/index.php/event/online-lehmbau-erfahrung-aus-dem-hortus-grossprojekt/
CATEGORIES:Onlineveranstaltung
ATTACH;FMTTYPE=image/jpeg:https://biwena.de/wp-content/uploads/2026/01/Hortus5.jpg
ORGANIZER;CN="BIWENA":MAILTO:info@biwena.de
END:VEVENT
END:VCALENDAR