BEGIN:VCALENDAR
VERSION:2.0
PRODID:-//BIWENA - ECPv6.15.19//NONSGML v1.0//EN
CALSCALE:GREGORIAN
METHOD:PUBLISH
X-WR-CALNAME:BIWENA
X-ORIGINAL-URL:https://biwena.de
X-WR-CALDESC:Veranstaltungen für BIWENA
REFRESH-INTERVAL;VALUE=DURATION:PT1H
X-Robots-Tag:noindex
X-PUBLISHED-TTL:PT1H
BEGIN:VTIMEZONE
TZID:Europe/Berlin
BEGIN:DAYLIGHT
TZOFFSETFROM:+0100
TZOFFSETTO:+0200
TZNAME:CEST
DTSTART:20240331T010000
END:DAYLIGHT
BEGIN:STANDARD
TZOFFSETFROM:+0200
TZOFFSETTO:+0100
TZNAME:CET
DTSTART:20241027T010000
END:STANDARD
BEGIN:DAYLIGHT
TZOFFSETFROM:+0100
TZOFFSETTO:+0200
TZNAME:CEST
DTSTART:20250330T010000
END:DAYLIGHT
BEGIN:STANDARD
TZOFFSETFROM:+0200
TZOFFSETTO:+0100
TZNAME:CET
DTSTART:20251026T010000
END:STANDARD
BEGIN:DAYLIGHT
TZOFFSETFROM:+0100
TZOFFSETTO:+0200
TZNAME:CEST
DTSTART:20260329T010000
END:DAYLIGHT
BEGIN:STANDARD
TZOFFSETFROM:+0200
TZOFFSETTO:+0100
TZNAME:CET
DTSTART:20261025T010000
END:STANDARD
END:VTIMEZONE
BEGIN:VEVENT
DTSTART;TZID=Europe/Berlin:20250714T000000
DTEND;TZID=Europe/Berlin:20250718T235959
DTSTAMP:20260421T013638
CREATED:20250422T101819Z
LAST-MODIFIED:20250527T074109Z
UID:10000002-1752451200-1752883199@biwena.de
SUMMARY:Einführung in den Lehmbau
DESCRIPTION:Lehm ist ein uralter Baustoff und wird seit Jahrtausenden überall auf der Welt verwendet. Aufgrund seines geringen ökologischen Fußabdrucks und seiner hervorragenden Eigenschaft zum Feuchteausgleich ist Lehmbau heute sehr interessant und aktuell immer mehr gefragt. \nIn diesem Seminar wollen wir grundlegendes Wissen zu Lehmbautechniken vermitteln\, einen Blick in die Geschichte des Lehmbaus werfen und erproben\, welche Lehmbauweisen für uns heute interessant und gut anwendbar sind.\nDer weitaus größte Teil des Kurses wird dabei praktisches Arbeiten in unserer Praxiswerkstatt sowie auf dem Freigelände beinhalten. \nIn Übungen zur Materialkunde erkunden wir die Eigenschaften des Baustoffs Lehm. Verschiedene Lehmbautechniken werden in Kleingruppen unterrichtet wie z.B. Stampflehm\, Mauern mit Lehmsteinen\, Herstellen von Lehmsteinen\, Innendämmung mit Leichtlehmen und verschiedene Lehmputze. \nIn theoretischen Einheiten wird auf die Geschichte und die Verbreitung des Lehmbaus\, die bauphysikalischen Eigenschaften des Baustoffes Lehm\, die unterschiedlichen Lehmbautechniken sowie Lehmprüfverfahren (Vorort und im Labor) und die baukonstruktiven Besonderheiten eingegangen.\nDer Kurs ist offen für alle Menschen: Handwerkende und Planer*innen\, Studierende und alle weiteren Personen\, die Spaß und Interesse daran haben\, sich fünf Tage mit dem Baustoff Lehm zu beschäftigen. Für das Seminar sind keinerlei Grundvoraussetzungen nötig. \n  \nTermin: 14.07. – 18.07.2025\nSeminarbeginn: Montags 10:00 Uhr\nSeminarende: Freitag gegen 16:00 Uhr \nDonzent*innen: \nStefan Ohnesorg \nMaurer und Lehmbauer: „Ich bin bei meiner Geburt in einen Lehmbottich gefallen\, durfte mich darin und später auch darüber hinaus europaweit auf Baustellen zumeist im Bereich Lehmbau und hauptsächlich mit Putzen nach Herzenslust ausprobieren & bekomme seit 38 Jahren sogar Geld für das\, was ich am liebsten tue. Inzwischen im Mittelalter angekommen\, ist es an der Zeit Wissen weiterzugeben.“ \n  \n  \nDorothee Mix \nTischlerin\, langjährige Arbeit in ökologischem Baukollektiv u.a. als Lehmputzerin; Fachkraft Strohballenbau\nArbeitet seit 2014 im Weiterbildungsbereich am Norddeutschen Zentrum für nachhaltiges Bauen: Weiterbildungen für die Bauwende\, Leitung von BBNE Projekten\, Führungen und Bildungsangebote in der Ausstellung nachhaltig.bauen.erleben.\nVorstandsmitglied bei BiWeNa und im Bauwende e.V. \n  \nInfos zu Fördermöglichkeiten \n  \nSeminar Anmeldung: Einführung in den Lehmbau (Juli 2025)Bitte aktiviere JavaScript in deinem Browser\, um dieses Formular fertigzustellen.Bitte aktiviere JavaScript in deinem Browser\, um dieses Formular fertigzustellen.Name *VornameNachname		\n			im & Postleitzahl\n			\n		\n		Geschlechtsidentitätmöchte ich nicht angebenmännlichweiblichnicht-binär*E-Mail-Adresse *Straße & Hausnummer *Postleitzahl *Ort *Telefon *Beruf (optional)Grundpreis *Preis: 660\,00 €Unterkunft *4 Übernachtungen im Mehrbettzimmer des Tagungshauses - 112\,00 €4 Übernachtungen im Einzelzimmer des Tagungshauses - 140\,00 €4 Übernachtungen im eigenen Wohnmobil oder Zelt inkl. Badbenutzung - 40\,00 €Keine Übernachtung gewünscht - 0\,00 €Bei den Übernachtungsmöglichkeiten handelt es sich um eine Tagungshausunterbringung des  Tagungshauses Forum\, einem einfach Jugendgästehaus mit Mehrbettzimmern. Die Zimmeraufteilung wird im Vorfeld erfolgen\, (Männer und Frauen getrennt\, Freund*innen und Paare auf Wunsch zusammen).Gebühr für Bettwäsche im TagungshausBettwäsche - 10\,00 €Bitte eigene Bettwäsche mitbringen.\nAlternativ ist es auch möglich\, sie im Tagungshaus zum einmaligen Preis von 10€ auszuleihen.Verpflegung *Nutzung der Tagungshaus Küche zur Selbstverpflegung - 24\,00 €Keine Verpflegung gewünscht - 0\,00 €Bei Buchung des Tagungshauses fallen zusätzlich 24\,00 € (einmalig) für die Nutzung der Selbstversorgungsküche an. Für eine warme Mahlzeit kann der Mittagstisch in der FrischeSchmiede (https://www.frischeschmiede.de/) genutzt werden. RabatteStudierende & Arbeitssuchende (-50€)Bereits ein Seminar bei BIWENA besucht (-20€)Wenn Sie sich bis zum 15.02.2026 anmelden erhalten sie automatisch einen Frühbucher*innen Rabatt in Höhe von 20€.\nHinweis: in der Summe unten können die Rabatte aus technischen Gründen noch nicht berücksichtigt werden. Bei der Erstellung der Rechnung werden wir diese aber berücksichtigen.Summe\n	\n		Zusammenfassung der Bestellung\n		\n			\n				Gegenstand\n				\n					Menge\n					Menge\n				\n				Summe\n			\n		\n		\n			\n				Es sind keine Produkte ausgewählt.\n			\n			Grundpreis1660\,00 €Unterkunft - 4 Übernachtungen im Mehrbettzimmer des Tagungshauses1112\,00 €Unterkunft - 4 Übernachtungen im Einzelzimmer des Tagungshauses1140\,00 €Unterkunft - 4 Übernachtungen im eigenen Wohnmobil oder Zelt inkl. Badbenutzung140\,00 €Unterkunft - Keine Übernachtung gewünscht10\,00 €Gebühr für Bettwäsche im Tagungshaus - Bettwäsche110\,00 €Verpflegung - Nutzung der Tagungshaus Küche zur Selbstverpflegung124\,00 €Verpflegung - Keine Verpflegung gewünscht10\,00 €Summe796\,00 €		\n	\n\n0\,00 €Hinweis: in der Summe können die Rabatte aus technischen Gründen noch nicht berücksichtigt werden. Bei der Erstellung der Rechnung werden wir diese aber abziehen. | Die Preise für Verpflegung und Tagungshaus können leicht variieren.Vertragsbedingungen *Hiermit akzeptiere ich die VertragsbedingungenVertragsbedingungen für die Teilnahme an Seminaren der Bildungswerkstatt für nachhaltige Entwicklung e.V. (BIWENA): Der Veranstalter bietet Seminare im Bereich des nachhaltigen Bauens an. Die Kurse beinhalten eine theoretische und praktische Einführung in die jeweilige Thematik.\nDer Veranstalter gewährleistet eine gemäß der Ausschreibung der Seminare ordnungsgemäße\nDurchführung der Kurse. Zu seinen Leistungen gehört auch die Stellung der Kursunterlagen\, des\nWerkzeugs\, des Arbeitsmaterials sowie der Großgeräte.\nArbeitskleidung incl. Arbeitsschuhe\, Handschuhe\, Zollstock\, Bleistift und Cutter sind von den\nTeilnehmenden zum Kurs mitzubringen.\nMit Einsendung der Anmeldung meldet sich die Interessentin / der Interessent verbindlich zu\neinem der angebotenen Strohballenbauseminare an. Die Anmeldung wird vom Veranstalter\nschriftlich bestätigt.\nZur Deckung der Kosten wird von jeder Teilnehmerin und jedem Teilnehmer eine Gebühr erhoben.\nBei Studenten\, Arbeitslosen und Sozialhilfeempfängern können wir gegen entsprechenden\nNachweis eine Reduzierung anbieten.\nBei einem Rücktritt werden die Kursgebühren wie folgt erstattet:\nBis 3 Wochen vor Kursbeginn: 90 %;\nBis 2 Wochen vor Kursbeginn: 50 %;\nBis 1 Woche vor Kursbeginn: 10 %;\nEntscheidend ist das Datum des Einganges der schriftlichen Rücktrittserklärung beim Veranstal-\nter.\nEine Ausnahme kann nur bei Nennung eines Ersatzteilnehmers\, der den Bedingungen des\nSeminars entspricht\, eingeräumt werden.\nBei einem vorzeitigem Abbruch des Seminars erfolgt keine Rückzahlung.\nHaftung:\nTeilnehmende an Seminaren der Bildungswerkstatt für nachhaltige Entwicklung e.V. erklären\ndurch ihre Anmeldung ihr Einverständnis\, dass ihnen aus der Teilnahme am Kurs\, für den Fall\neiner im Zusammenhang mit dem Kurs entstehenden Schädigung einer Person oder Sachen\, ein\nHaftungsanspruch gegen den Veranstalter nicht zusteht und sie einen solchen nicht gelten\nmachen werden.Verbindlich Buchen  \n 
URL:https://biwena.de/index.php/event/einfuehrung-in-den-lehmbau/
LOCATION:Seminar- und Praxishalle 57\, Artilleriestr. 14\, Verden\, Niedersachsen\, 27283\, Germany
ATTACH;FMTTYPE=image/jpeg:https://biwena.de/wp-content/uploads/2025/04/IMG_4614.jpg
END:VEVENT
END:VCALENDAR