BEGIN:VCALENDAR
VERSION:2.0
PRODID:-//BIWENA - ECPv6.15.19//NONSGML v1.0//EN
CALSCALE:GREGORIAN
METHOD:PUBLISH
X-ORIGINAL-URL:https://biwena.de
X-WR-CALDESC:Veranstaltungen für BIWENA
REFRESH-INTERVAL;VALUE=DURATION:PT1H
X-Robots-Tag:noindex
X-PUBLISHED-TTL:PT1H
BEGIN:VTIMEZONE
TZID:Europe/Berlin
BEGIN:DAYLIGHT
TZOFFSETFROM:+0100
TZOFFSETTO:+0200
TZNAME:CEST
DTSTART:20240331T010000
END:DAYLIGHT
BEGIN:STANDARD
TZOFFSETFROM:+0200
TZOFFSETTO:+0100
TZNAME:CET
DTSTART:20241027T010000
END:STANDARD
BEGIN:DAYLIGHT
TZOFFSETFROM:+0100
TZOFFSETTO:+0200
TZNAME:CEST
DTSTART:20250330T010000
END:DAYLIGHT
BEGIN:STANDARD
TZOFFSETFROM:+0200
TZOFFSETTO:+0100
TZNAME:CET
DTSTART:20251026T010000
END:STANDARD
BEGIN:DAYLIGHT
TZOFFSETFROM:+0100
TZOFFSETTO:+0200
TZNAME:CEST
DTSTART:20260329T010000
END:DAYLIGHT
BEGIN:STANDARD
TZOFFSETFROM:+0200
TZOFFSETTO:+0100
TZNAME:CET
DTSTART:20261025T010000
END:STANDARD
BEGIN:DAYLIGHT
TZOFFSETFROM:+0100
TZOFFSETTO:+0200
TZNAME:CEST
DTSTART:20270328T010000
END:DAYLIGHT
BEGIN:STANDARD
TZOFFSETFROM:+0200
TZOFFSETTO:+0100
TZNAME:CET
DTSTART:20271031T010000
END:STANDARD
BEGIN:DAYLIGHT
TZOFFSETFROM:+0100
TZOFFSETTO:+0200
TZNAME:CEST
DTSTART:20280326T010000
END:DAYLIGHT
BEGIN:STANDARD
TZOFFSETFROM:+0200
TZOFFSETTO:+0100
TZNAME:CET
DTSTART:20281029T010000
END:STANDARD
END:VTIMEZONE
BEGIN:VEVENT
DTSTART;TZID=Europe/Berlin:20251117T000000
DTEND;TZID=Europe/Berlin:20271231T235959
DTSTAMP:20260420T163646
CREATED:20251117T095308Z
LAST-MODIFIED:20260107T113253Z
UID:10000019-1763337600-1830297599@biwena.de
SUMMARY:Ausstellung im XXL Strohhaus geöffnet Mi + Fr + auf Anfrage
DESCRIPTION:Auf zwei Etagen erwarten Sie umfassende Informationen zu Neubau und Altbausanierung von den Macher*innen der Bauwende – aufbereitet anhand von realisierten Beispielen\, immer konsequent in Richtung Gesundheit\, Komfort\, Effizienz\, Klimaschutz. Biodiversität und: Genug. \nDie Öffnungszeiten der Bauwende-Ausstellung werden von dem Weiterbildungs- und Beratungsteam des Biwena e.V. durch großzügige Unterstützung durch die Bildungsoffensive Nachhaltiges Bauen Mitte Niedersachsen\, gefördert durch die 3 Landkreise\, Diepholz\, Nienburg\, Verden und teils im Ehrenamt betreut. \nGeöffnet außer an Feiertagen immer: \nMittwoch: 12:00 – 18:00\nFreitag:      12:00 – 18:00\n\nOder nach Absprache unter info@biwena.de.\nKontaktieren Sie uns auch gern für eine Führung!
URL:https://biwena.de/index.php/event/ausstellung-geoeffnet-mifrsa/
LOCATION:Ausstellung nachhaltig.bauen.erleben\, Artilleriestr. 6 A\, Verden\, 27283\, Germany
ATTACH;FMTTYPE=image/jpeg:https://biwena.de/wp-content/uploads/2025/11/IMG_20240815_1943062.jpg
ORGANIZER;CN="BIWENA":MAILTO:info@biwena.de
END:VEVENT
BEGIN:VEVENT
DTSTART;TZID=Europe/Berlin:20260126T100000
DTEND;TZID=Europe/Berlin:20260126T153000
DTSTAMP:20260420T163646
CREATED:20251218T095531Z
LAST-MODIFIED:20260122T133230Z
UID:10000028-1769421600-1769441400@biwena.de
SUMMARY:Die kommunale Bauwende (Köln)
DESCRIPTION:Die öffentliche Hand entscheidet mit ihren Pflicht- und Kann-Aufgaben entscheidend mit über Gedeih oder Verderb der Bauwende und damit dem Erreichen der Klimaziele und des Ressourcenschutzes.  Wir wollen im Workshop aus der Erfahrung heraus zeigen\, wie beides schon heute längst möglich ist\, aus der Perspektive des Holz-Stroh-Lehm-Baus\, der meist die beste Praxis darstellt. \n10:00 Ankommen\, Begrüßung\, Organisatorisches\n10:15 Eine Bauwende einleiten\, Michael Burchert\, BIWENA e.V.\n11:00 Herstellungsenergie\, Materialwende/Materialkunde: Bauen mit Nachwachsenden Rohstoffen mit Beispielen kommunalen Bauens\, Dorothee Mix\, BIWENA e.V.\n12:00 Mittagsimbiss\n12:45 Kommunale Sanierung mit Holz und Stroh\, Dennis Harms\, baugestalt\n14:00 Wie gelingt eine nachhaltige kommunale Beschaffung? Michael Burchert BIWENA e.V.\n14:30 Austausch zur Umsetzung\n15:30 Ende ( Anfang Ihrer Umsetzung)\nIhre Teilnahme ist kostenfrei egal ob sie aus dem kommunalen Bauen\, Planung\, Politik kommen. Vorstellung eigener Projekte in kurzer Form möglich. Änderungen vorbehalten. Die Plätze sind begrenzt\, melden Sie sich bitte rechtzeitig ab für Nachrücker*innen. \nAnmeldung bitte durch kurze Mail mit Name\, Ort/Funktion/Organisation an Michael Burchert \n————– \nIn Zusammenarbeit mit der Deutschen Umwelthilfe und der TU München. \nDas Projekt Bauklima kommunal wird von der nationalen Klimaschutzinitiative (NKI) gefördert.
URL:https://biwena.de/index.php/event/die-kommunale-bauwende-2/
LOCATION:Kranhaus Nord – Sessel Hub\, Rheinaufhafen\, Köln\, Im Zollhafen 12\, Köln\, 50678\, Germany
CATEGORIES:Vortragsveranstaltung
ATTACH;FMTTYPE=image/png:https://biwena.de/wp-content/uploads/2025/08/bauklima_logo.png
ORGANIZER;CN="BIWENA":MAILTO:info@biwena.de
END:VEVENT
END:VCALENDAR