BEGIN:VCALENDAR
VERSION:2.0
PRODID:-//BIWENA - ECPv6.15.19//NONSGML v1.0//EN
CALSCALE:GREGORIAN
METHOD:PUBLISH
X-WR-CALNAME:BIWENA
X-ORIGINAL-URL:https://biwena.de
X-WR-CALDESC:Veranstaltungen für BIWENA
REFRESH-INTERVAL;VALUE=DURATION:PT1H
X-Robots-Tag:noindex
X-PUBLISHED-TTL:PT1H
BEGIN:VTIMEZONE
TZID:Europe/Berlin
BEGIN:DAYLIGHT
TZOFFSETFROM:+0100
TZOFFSETTO:+0200
TZNAME:CEST
DTSTART:20240331T010000
END:DAYLIGHT
BEGIN:STANDARD
TZOFFSETFROM:+0200
TZOFFSETTO:+0100
TZNAME:CET
DTSTART:20241027T010000
END:STANDARD
BEGIN:DAYLIGHT
TZOFFSETFROM:+0100
TZOFFSETTO:+0200
TZNAME:CEST
DTSTART:20250330T010000
END:DAYLIGHT
BEGIN:STANDARD
TZOFFSETFROM:+0200
TZOFFSETTO:+0100
TZNAME:CET
DTSTART:20251026T010000
END:STANDARD
BEGIN:DAYLIGHT
TZOFFSETFROM:+0100
TZOFFSETTO:+0200
TZNAME:CEST
DTSTART:20260329T010000
END:DAYLIGHT
BEGIN:STANDARD
TZOFFSETFROM:+0200
TZOFFSETTO:+0100
TZNAME:CET
DTSTART:20261025T010000
END:STANDARD
END:VTIMEZONE
BEGIN:VEVENT
DTSTART;TZID=Europe/Berlin:20250904T170000
DTEND;TZID=Europe/Berlin:20250904T180000
DTSTAMP:20260421T002823
CREATED:20250825T093502Z
LAST-MODIFIED:20250825T125605Z
UID:10000008-1757005200-1757008800@biwena.de
SUMMARY:[Online] Die kommunale Bauwende
DESCRIPTION:Wir laden alle kommunalen Akteur*innen aus Verwaltung\, Politik\, Handwerk und Planung herzlich zu unserer neuen kostenfreien jeweils 1-stündigen Onlinereihe „Bauklima kommunal“ ein. \nKommunen und Kreise haben die Möglichkeit das Bauwesen auf lokaler Ebene hin zu Klimaschutz und Ressourcenschutz zu bewegen. Wie machen andere Kommunen das? In den Vorträgen und Diskussionen geht es um die Bauwende-Hebel (Michael Burchert\, Biwena e.V.)\, z.B. den CO2 Schattenpreis und innovative Ansätze aus der bewährten Praxis des preiswerten\, ökologischen Bauens (Ulrich Steinmeyer Ökoplus). \nDiskutieren Sie mit. Anmeldung bitte hier. \n  \n______ \nDas BauKlima-Kommunal Projekt wird gemeinsam von der Deutschen Umwelthilfe e.V.\, dem Lehrstuhl für energieeffizientes und nachhaltiges Planen und Bauen an der Technischen Universität München und der Bildungswerkstatt für nachhaltige Entwicklung e.V. umgesetzt und im Rahmen der Nationalen Klimaschutzinitiative gefördert. Das Projekt läuft drei Jahre (vom 1. April 2023 bis 31. März 2026). Förderkennzeichen: 67KF0181ABC.
URL:https://biwena.de/index.php/event/die-kommunale-bauwende/
CATEGORIES:Onlineveranstaltung
ATTACH;FMTTYPE=image/png:https://biwena.de/wp-content/uploads/2025/08/bauklima_logo.png
ORGANIZER;CN="BIWENA":MAILTO:info@biwena.de
END:VEVENT
END:VCALENDAR